BEGIN:VCALENDAR
VERSION:2.0
PRODID:-//Epilepsy Agency of the Big Bend (EABB) - ECPv6.15.20//NONSGML v1.0//EN
CALSCALE:GREGORIAN
METHOD:PUBLISH
X-ORIGINAL-URL:http://eabb.org
X-WR-CALDESC:Events for Epilepsy Agency of the Big Bend (EABB)
REFRESH-INTERVAL;VALUE=DURATION:PT1H
X-Robots-Tag:noindex
X-PUBLISHED-TTL:PT1H
BEGIN:VTIMEZONE
TZID:America/New_York
BEGIN:DAYLIGHT
TZOFFSETFROM:-0500
TZOFFSETTO:-0400
TZNAME:EDT
DTSTART:20210314T070000
END:DAYLIGHT
BEGIN:STANDARD
TZOFFSETFROM:-0400
TZOFFSETTO:-0500
TZNAME:EST
DTSTART:20211107T060000
END:STANDARD
BEGIN:DAYLIGHT
TZOFFSETFROM:-0500
TZOFFSETTO:-0400
TZNAME:EDT
DTSTART:20220313T070000
END:DAYLIGHT
BEGIN:STANDARD
TZOFFSETFROM:-0400
TZOFFSETTO:-0500
TZNAME:EST
DTSTART:20221106T060000
END:STANDARD
BEGIN:DAYLIGHT
TZOFFSETFROM:-0500
TZOFFSETTO:-0400
TZNAME:EDT
DTSTART:20230312T070000
END:DAYLIGHT
BEGIN:STANDARD
TZOFFSETFROM:-0400
TZOFFSETTO:-0500
TZNAME:EST
DTSTART:20231105T060000
END:STANDARD
END:VTIMEZONE
BEGIN:VEVENT
DTSTART;TZID=America/New_York:20220406T100000
DTEND;TZID=America/New_York:20220406T130000
DTSTAMP:20260421T000952
CREATED:20220401T195033Z
LAST-MODIFIED:20220401T195425Z
UID:1641-1649239200-1649250000@eabb.org
SUMMARY:Community Service Awareness Day
DESCRIPTION:Community Service Awareness Day is an opportunity to speak with representatives from organizations in the area that promote healthy and safe choices as well as other community services. \nIndividuals may speak with the organizations not only about the services they offer\, but can also find volunteer options to give back to the community. \nAccess the brochure here
URL:http://eabb.org/calendar/community-service-awareness-day/
LOCATION:Gulf Coast State College\, 5230 W. Hwy 98\, Panama City\, FL\, 32401\, United States
END:VEVENT
END:VCALENDAR