BEGIN:VCALENDAR
VERSION:2.0
PRODID:-//Epilepsy Agency of the Big Bend (EABB) - ECPv6.15.20//NONSGML v1.0//EN
CALSCALE:GREGORIAN
METHOD:PUBLISH
X-WR-CALNAME:Epilepsy Agency of the Big Bend (EABB)
X-ORIGINAL-URL:http://eabb.org
X-WR-CALDESC:Events for Epilepsy Agency of the Big Bend (EABB)
REFRESH-INTERVAL;VALUE=DURATION:PT1H
X-Robots-Tag:noindex
X-PUBLISHED-TTL:PT1H
BEGIN:VTIMEZONE
TZID:America/New_York
BEGIN:DAYLIGHT
TZOFFSETFROM:-0500
TZOFFSETTO:-0400
TZNAME:EDT
DTSTART:20250309T070000
END:DAYLIGHT
BEGIN:STANDARD
TZOFFSETFROM:-0400
TZOFFSETTO:-0500
TZNAME:EST
DTSTART:20251102T060000
END:STANDARD
BEGIN:DAYLIGHT
TZOFFSETFROM:-0500
TZOFFSETTO:-0400
TZNAME:EDT
DTSTART:20260308T070000
END:DAYLIGHT
BEGIN:STANDARD
TZOFFSETFROM:-0400
TZOFFSETTO:-0500
TZNAME:EST
DTSTART:20261101T060000
END:STANDARD
BEGIN:DAYLIGHT
TZOFFSETFROM:-0500
TZOFFSETTO:-0400
TZNAME:EDT
DTSTART:20270314T070000
END:DAYLIGHT
BEGIN:STANDARD
TZOFFSETFROM:-0400
TZOFFSETTO:-0500
TZNAME:EST
DTSTART:20271107T060000
END:STANDARD
END:VTIMEZONE
BEGIN:VEVENT
DTSTART;TZID=America/New_York:20260422T170000
DTEND;TZID=America/New_York:20260422T180000
DTSTAMP:20260424T123917
CREATED:20260227T183646Z
LAST-MODIFIED:20260416T140701Z
UID:4402-1776877200-1776880800@eabb.org
SUMMARY:Student Epilepsy Network: In-Person
DESCRIPTION:The Student Epilepsy Network (SEN) is a student-centered initiative open to any students living with epilepsy across North Florida. \nSEN provides practical tools for navigating epilepsy in campus life\, meaningful peer connection\, mentorship opportunities\, and education on seizure first aid and self-advocacy. Our goal is to help students build confidence\, community\, and independence in a supportive and confidential space. \nAt SEN\, students will learn how to: \n\nBuild reliable medication and sleep routines\nCreate safety plans for dorms\, classrooms\, and social settings\nNavigate disability accommodations with confidence\nPractice disclosure conversations\nConnect with mentors and peers who understand\nLearn seizure first aid and how to support others\n\nWhether you live with epilepsy\, support someone who does\, or want to become a trained ally\, SEN provides a welcoming and informed community where students can connect and grow. \nWhen: Meetings are held on the second and fourth Wednesday of each month\, 5:00 PM – 6:00 PM. The group follows a hybrid format: the second Wednesday meeting is held virtually via Zoom\, and the fourth Wednesday meeting is in person. \nWhere: 1215 Lee Avenue\, Suite B\, Tallahassee\, FL 32303 \nFor more information\, please contact Gabriela Pineda\, MPH\, Health Educator & Outreach Manager\, at gabriela@eabb.org
URL:http://eabb.org/calendar/student-epilepsy-network-zoom/
END:VEVENT
END:VCALENDAR