BEGIN:VCALENDAR
VERSION:2.0
PRODID:-//Epilepsy Agency of the Big Bend (EABB) - ECPv6.15.20//NONSGML v1.0//EN
CALSCALE:GREGORIAN
METHOD:PUBLISH
X-ORIGINAL-URL:http://eabb.org
X-WR-CALDESC:Events for Epilepsy Agency of the Big Bend (EABB)
REFRESH-INTERVAL;VALUE=DURATION:PT1H
X-Robots-Tag:noindex
X-PUBLISHED-TTL:PT1H
BEGIN:VTIMEZONE
TZID:America/New_York
BEGIN:DAYLIGHT
TZOFFSETFROM:-0500
TZOFFSETTO:-0400
TZNAME:EDT
DTSTART:20250309T070000
END:DAYLIGHT
BEGIN:STANDARD
TZOFFSETFROM:-0400
TZOFFSETTO:-0500
TZNAME:EST
DTSTART:20251102T060000
END:STANDARD
BEGIN:DAYLIGHT
TZOFFSETFROM:-0500
TZOFFSETTO:-0400
TZNAME:EDT
DTSTART:20260308T070000
END:DAYLIGHT
BEGIN:STANDARD
TZOFFSETFROM:-0400
TZOFFSETTO:-0500
TZNAME:EST
DTSTART:20261101T060000
END:STANDARD
BEGIN:DAYLIGHT
TZOFFSETFROM:-0500
TZOFFSETTO:-0400
TZNAME:EDT
DTSTART:20270314T070000
END:DAYLIGHT
BEGIN:STANDARD
TZOFFSETFROM:-0400
TZOFFSETTO:-0500
TZNAME:EST
DTSTART:20271107T060000
END:STANDARD
BEGIN:DAYLIGHT
TZOFFSETFROM:-0500
TZOFFSETTO:-0400
TZNAME:EDT
DTSTART:20280312T070000
END:DAYLIGHT
BEGIN:STANDARD
TZOFFSETFROM:-0400
TZOFFSETTO:-0500
TZNAME:EST
DTSTART:20281105T060000
END:STANDARD
END:VTIMEZONE
BEGIN:VEVENT
DTSTART;VALUE=DATE:20260703
DTEND;VALUE=DATE:20260704
DTSTAMP:20260423T140903
CREATED:20251211T204308Z
LAST-MODIFIED:20251211T204308Z
UID:4139-1783036800-1783123199@eabb.org
SUMMARY:Independence Day - Closed
DESCRIPTION:The Epilepsy Agency of the Big Bend will be closed all day on Friday\, July 3\, 2026\, in observance of Independence Day
URL:http://eabb.org/calendar/independence-day-closed-2/
END:VEVENT
BEGIN:VEVENT
DTSTART;TZID=America/New_York:20260722T170000
DTEND;TZID=America/New_York:20260722T180000
DTSTAMP:20260423T140903
CREATED:20260423T160652Z
LAST-MODIFIED:20260423T160652Z
UID:4526-1784739600-1784743200@eabb.org
SUMMARY:Student Epilepsy Network: In-Person
DESCRIPTION:The Student Epilepsy Network (SEN) is a student-centered initiative open to any students living with epilepsy across North Florida. \nSEN provides practical tools for navigating epilepsy in campus life\, meaningful peer connection\, mentorship opportunities\, and education on seizure first aid and self-advocacy. Our goal is to help students build confidence\, community\, and independence in a supportive and confidential space. \nAt SEN\, students will learn how to: \n\nBuild reliable medication and sleep routines\nCreate safety plans for dorms\, classrooms\, and social settings\nNavigate disability accommodations with confidence\nPractice disclosure conversations\nConnect with mentors and peers who understand\nLearn seizure first aid and how to support others\n\nWhether you live with epilepsy\, support someone who does\, or want to become a trained ally\, SEN provides a welcoming and informed community where students can connect and grow. \nWhen: Meetings are held on the fourth Wednesday of each month\, 5:00 PM – 6:00 PM. \nWhere: 1215 Lee Avenue\, Tallahassee\, FL 32303 \nFor more information\, please contact Gabriela Pineda\, MPH\, Health Educator & Outreach Manager\, at gabriela@eabb.org
URL:http://eabb.org/calendar/student-epilepsy-network-in-person-2/
END:VEVENT
BEGIN:VEVENT
DTSTART;VALUE=DATE:20260907
DTEND;VALUE=DATE:20260908
DTSTAMP:20260423T140903
CREATED:20251211T203345Z
LAST-MODIFIED:20251211T203345Z
UID:4141-1788739200-1788825599@eabb.org
SUMMARY:Labor Day - Closed
DESCRIPTION:The Epilepsy Agency of the Big Bend will be closed all day on Monday\, September 7\, 2026\, in observance of Labor Day.
URL:http://eabb.org/calendar/labor-day-closed-3/
END:VEVENT
BEGIN:VEVENT
DTSTART;VALUE=DATE:20261012
DTEND;VALUE=DATE:20261013
DTSTAMP:20260423T140903
CREATED:20251211T203503Z
LAST-MODIFIED:20251211T203503Z
UID:4143-1791763200-1791849599@eabb.org
SUMMARY:Columbus Day - Closed
DESCRIPTION:The Epilepsy Agency of the Big Bend will be closed all day on Monday\, October 12\, 2026\, in observance of Columbus Day.
URL:http://eabb.org/calendar/columbus-day-closed/
END:VEVENT
BEGIN:VEVENT
DTSTART;VALUE=DATE:20261111
DTEND;VALUE=DATE:20261112
DTSTAMP:20260423T140903
CREATED:20251211T203612Z
LAST-MODIFIED:20251211T203612Z
UID:4145-1794355200-1794441599@eabb.org
SUMMARY:Veterans Day - Closed
DESCRIPTION:The Epilepsy Agency of the Big Bend will be closed all day on Wednesday\, November 11\, 2026\, in observance of Veterans Day.
URL:http://eabb.org/calendar/veterans-day-closed-2/
END:VEVENT
BEGIN:VEVENT
DTSTART;VALUE=DATE:20261126
DTEND;VALUE=DATE:20261127
DTSTAMP:20260423T140903
CREATED:20251211T203701Z
LAST-MODIFIED:20251211T203701Z
UID:4147-1795651200-1795737599@eabb.org
SUMMARY:Thanksgiving Day - Closed
DESCRIPTION:The Epilepsy Agency of the Big Bend will be closed all day on Thursday\, November 26\, 2026\, in observance of Thanksgiving Day.
URL:http://eabb.org/calendar/thanksgiving-day-closed-2/
END:VEVENT
BEGIN:VEVENT
DTSTART;VALUE=DATE:20261127
DTEND;VALUE=DATE:20261128
DTSTAMP:20260423T140903
CREATED:20251211T203750Z
LAST-MODIFIED:20251211T203750Z
UID:4149-1795737600-1795823999@eabb.org
SUMMARY:Day After Thanksgiving – Closed
DESCRIPTION:The Epilepsy Agency of the Big Bend will be closed all day on Friday\, November 27\, 2026\, in observance of Thanksgiving.
URL:http://eabb.org/calendar/day-after-thanksgiving-closed-3/
END:VEVENT
BEGIN:VEVENT
DTSTART;VALUE=DATE:20261224
DTEND;VALUE=DATE:20261225
DTSTAMP:20260423T140903
CREATED:20251211T203859Z
LAST-MODIFIED:20251211T203859Z
UID:4151-1798070400-1798156799@eabb.org
SUMMARY:Christmas Eve – Closed
DESCRIPTION:The Epilepsy Agency of the Big Bend will be closed all day on Thursday\, December 24\, 2026\, in observance of Christmas Eve.
URL:http://eabb.org/calendar/christmas-eve-closed/
END:VEVENT
BEGIN:VEVENT
DTSTART;VALUE=DATE:20261225
DTEND;VALUE=DATE:20261226
DTSTAMP:20260423T140903
CREATED:20251211T203956Z
LAST-MODIFIED:20251211T203956Z
UID:4153-1798156800-1798243199@eabb.org
SUMMARY:Christmas Day – Closed
DESCRIPTION:The Epilepsy Agency of the Big Bend will be closed all day on Friday\, December 25\, 2026\, in observance of Christmas.
URL:http://eabb.org/calendar/christmas-day-closed-3/
END:VEVENT
BEGIN:VEVENT
DTSTART;VALUE=DATE:20261231
DTEND;VALUE=DATE:20270101
DTSTAMP:20260423T140903
CREATED:20251211T204113Z
LAST-MODIFIED:20251211T204113Z
UID:4155-1798675200-1798761599@eabb.org
SUMMARY:New Year's Eve – Closed
DESCRIPTION:The Epilepsy Agency of the Big Bend will be closed all day on Thursday\, December 31\, 2026\, in observance of New Year’s Eve.
URL:http://eabb.org/calendar/new-years-eve-closed-2/
END:VEVENT
BEGIN:VEVENT
DTSTART;VALUE=DATE:20270101
DTEND;VALUE=DATE:20270102
DTSTAMP:20260423T140903
CREATED:20251211T204152Z
LAST-MODIFIED:20251211T204152Z
UID:4157-1798761600-1798847999@eabb.org
SUMMARY:New Year's Day – Closed
DESCRIPTION:The Epilepsy Agency of the Big Bend will be closed all day on Friday\, January 1\, 2027\, in observance of New Year’s Day.
URL:http://eabb.org/calendar/new-years-day-closed-4/
END:VEVENT
END:VCALENDAR