BEGIN:VCALENDAR
VERSION:2.0
PRODID:-//Epilepsy Agency of the Big Bend (EABB) - ECPv6.15.20//NONSGML v1.0//EN
CALSCALE:GREGORIAN
METHOD:PUBLISH
X-WR-CALNAME:Epilepsy Agency of the Big Bend (EABB)
X-ORIGINAL-URL:http://eabb.org
X-WR-CALDESC:Events for Epilepsy Agency of the Big Bend (EABB)
REFRESH-INTERVAL;VALUE=DURATION:PT1H
X-Robots-Tag:noindex
X-PUBLISHED-TTL:PT1H
BEGIN:VTIMEZONE
TZID:America/New_York
BEGIN:DAYLIGHT
TZOFFSETFROM:-0500
TZOFFSETTO:-0400
TZNAME:EDT
DTSTART:20210314T070000
END:DAYLIGHT
BEGIN:STANDARD
TZOFFSETFROM:-0400
TZOFFSETTO:-0500
TZNAME:EST
DTSTART:20211107T060000
END:STANDARD
BEGIN:DAYLIGHT
TZOFFSETFROM:-0500
TZOFFSETTO:-0400
TZNAME:EDT
DTSTART:20220313T070000
END:DAYLIGHT
BEGIN:STANDARD
TZOFFSETFROM:-0400
TZOFFSETTO:-0500
TZNAME:EST
DTSTART:20221106T060000
END:STANDARD
BEGIN:DAYLIGHT
TZOFFSETFROM:-0500
TZOFFSETTO:-0400
TZNAME:EDT
DTSTART:20230312T070000
END:DAYLIGHT
BEGIN:STANDARD
TZOFFSETFROM:-0400
TZOFFSETTO:-0500
TZNAME:EST
DTSTART:20231105T060000
END:STANDARD
END:VTIMEZONE
BEGIN:VEVENT
DTSTART;VALUE=DATE:20220103
DTEND;VALUE=DATE:20220104
DTSTAMP:20260425T072205
CREATED:20211204T161623Z
LAST-MODIFIED:20211204T161623Z
UID:1399-1641168000-1641254399@eabb.org
SUMMARY:EABB CLOSED
DESCRIPTION:The Epilepsy Agency of the Big Bend will be closed all day on Monday\, January 3rd. Normal operations will resume on Tuesday\, January 4th 2022.
URL:http://eabb.org/calendar/eabb-closed-6/
END:VEVENT
BEGIN:VEVENT
DTSTART;TZID=America/New_York:20220104T120000
DTEND;TZID=America/New_York:20220104T130000
DTSTAMP:20260425T072205
CREATED:20211220T171502Z
LAST-MODIFIED:20211220T171502Z
UID:1436-1641297600-1641301200@eabb.org
SUMMARY:Epilepsy Support Group
DESCRIPTION:If you or a loved one has been diagnosed with epilepsy\, you know how challenging it can be to manage its effects on daily life. Join others in similar circumstances for informal\, supportive conversations about treatment\, seizure and lifestyle management – and other topics of interest to the group. \nGroups are held at noon\, there is no charge\, but please RSVP to info@eabb.org to register and receive the link. \nAdditional monthly support groups may be scheduled periodically. To keep informed\, sign up below to receive alerts and updates.
URL:http://eabb.org/calendar/epilepsy-support-group-76/
END:VEVENT
BEGIN:VEVENT
DTSTART;TZID=America/New_York:20220106T120000
DTEND;TZID=America/New_York:20220106T130000
DTSTAMP:20260425T072205
CREATED:20211220T171526Z
LAST-MODIFIED:20211220T171526Z
UID:1438-1641470400-1641474000@eabb.org
SUMMARY:Epilepsy Support Group
DESCRIPTION:If you or a loved one has been diagnosed with epilepsy\, you know how challenging it can be to manage its effects on daily life. Join others in similar circumstances for informal\, supportive conversations about treatment\, seizure and lifestyle management – and other topics of interest to the group. \nGroups are held at noon\, there is no charge\, but please RSVP to info@eabb.org to register and receive the link. \nAdditional monthly support groups may be scheduled periodically. To keep informed\, sign up below to receive alerts and updates.
URL:http://eabb.org/calendar/epilepsy-support-group-77/
END:VEVENT
BEGIN:VEVENT
DTSTART;TZID=America/New_York:20220111T120000
DTEND;TZID=America/New_York:20220111T130000
DTSTAMP:20260425T072205
CREATED:20211220T171600Z
LAST-MODIFIED:20211220T171600Z
UID:1440-1641902400-1641906000@eabb.org
SUMMARY:Epilepsy Support Group
DESCRIPTION:If you or a loved one has been diagnosed with epilepsy\, you know how challenging it can be to manage its effects on daily life. Join others in similar circumstances for informal\, supportive conversations about treatment\, seizure and lifestyle management – and other topics of interest to the group. \nGroups are held at noon\, there is no charge\, but please RSVP to info@eabb.org to register and receive the link. \nAdditional monthly support groups may be scheduled periodically. To keep informed\, sign up below to receive alerts and updates.
URL:http://eabb.org/calendar/epilepsy-support-group-78/
END:VEVENT
BEGIN:VEVENT
DTSTART;TZID=America/New_York:20220113T120000
DTEND;TZID=America/New_York:20220113T130000
DTSTAMP:20260425T072205
CREATED:20211220T171623Z
LAST-MODIFIED:20211220T171623Z
UID:1442-1642075200-1642078800@eabb.org
SUMMARY:Epilepsy Support Group
DESCRIPTION:If you or a loved one has been diagnosed with epilepsy\, you know how challenging it can be to manage its effects on daily life. Join others in similar circumstances for informal\, supportive conversations about treatment\, seizure and lifestyle management – and other topics of interest to the group. \nGroups are held at noon\, there is no charge\, but please RSVP to info@eabb.org to register and receive the link. \nAdditional monthly support groups may be scheduled periodically. To keep informed\, sign up below to receive alerts and updates.
URL:http://eabb.org/calendar/epilepsy-support-group-79/
END:VEVENT
BEGIN:VEVENT
DTSTART;VALUE=DATE:20220117
DTEND;VALUE=DATE:20220118
DTSTAMP:20260425T072205
CREATED:20210903T200239Z
LAST-MODIFIED:20210903T200239Z
UID:1201-1642377600-1642463999@eabb.org
SUMMARY:MARTIN LUTHER KING JR. DAY
DESCRIPTION:The Epilepsy Agency of the Big Bend will be closed all day on Monday\, January 17th in observance of Martin Luther King Jr. Day. Normal operations will resume tomorrow.
URL:http://eabb.org/calendar/martin-luther-king-jr-day/
END:VEVENT
BEGIN:VEVENT
DTSTART;TZID=America/New_York:20220118T120000
DTEND;TZID=America/New_York:20220118T130000
DTSTAMP:20260425T072205
CREATED:20211220T171646Z
LAST-MODIFIED:20211220T171646Z
UID:1444-1642507200-1642510800@eabb.org
SUMMARY:Epilepsy Support Group
DESCRIPTION:If you or a loved one has been diagnosed with epilepsy\, you know how challenging it can be to manage its effects on daily life. Join others in similar circumstances for informal\, supportive conversations about treatment\, seizure and lifestyle management – and other topics of interest to the group. \nGroups are held at noon\, there is no charge\, but please RSVP to info@eabb.org to register and receive the link. \nAdditional monthly support groups may be scheduled periodically. To keep informed\, sign up below to receive alerts and updates.
URL:http://eabb.org/calendar/epilepsy-support-group-80/
END:VEVENT
BEGIN:VEVENT
DTSTART;TZID=America/New_York:20220120T120000
DTEND;TZID=America/New_York:20220120T130000
DTSTAMP:20260425T072205
CREATED:20211220T171724Z
LAST-MODIFIED:20211220T171724Z
UID:1446-1642680000-1642683600@eabb.org
SUMMARY:Epilepsy Support Group
DESCRIPTION:If you or a loved one has been diagnosed with epilepsy\, you know how challenging it can be to manage its effects on daily life. Join others in similar circumstances for informal\, supportive conversations about treatment\, seizure and lifestyle management – and other topics of interest to the group. \nGroups are held at noon\, there is no charge\, but please RSVP to info@eabb.org to register and receive the link. \nAdditional monthly support groups may be scheduled periodically. To keep informed\, sign up below to receive alerts and updates.
URL:http://eabb.org/calendar/epilepsy-support-group-81/
END:VEVENT
BEGIN:VEVENT
DTSTART;TZID=America/New_York:20220125T120000
DTEND;TZID=America/New_York:20220125T130000
DTSTAMP:20260425T072205
CREATED:20211220T171744Z
LAST-MODIFIED:20211220T171744Z
UID:1448-1643112000-1643115600@eabb.org
SUMMARY:Epilepsy Support Group
DESCRIPTION:If you or a loved one has been diagnosed with epilepsy\, you know how challenging it can be to manage its effects on daily life. Join others in similar circumstances for informal\, supportive conversations about treatment\, seizure and lifestyle management – and other topics of interest to the group. \nGroups are held at noon\, there is no charge\, but please RSVP to info@eabb.org to register and receive the link. \nAdditional monthly support groups may be scheduled periodically. To keep informed\, sign up below to receive alerts and updates.
URL:http://eabb.org/calendar/epilepsy-support-group-82/
END:VEVENT
BEGIN:VEVENT
DTSTART;TZID=America/New_York:20220127T120000
DTEND;TZID=America/New_York:20220127T130000
DTSTAMP:20260425T072205
CREATED:20211220T171804Z
LAST-MODIFIED:20211220T171804Z
UID:1450-1643284800-1643288400@eabb.org
SUMMARY:Epilepsy Support Group
DESCRIPTION:If you or a loved one has been diagnosed with epilepsy\, you know how challenging it can be to manage its effects on daily life. Join others in similar circumstances for informal\, supportive conversations about treatment\, seizure and lifestyle management – and other topics of interest to the group. \nGroups are held at noon\, there is no charge\, but please RSVP to info@eabb.org to register and receive the link. \nAdditional monthly support groups may be scheduled periodically. To keep informed\, sign up below to receive alerts and updates.
URL:http://eabb.org/calendar/epilepsy-support-group-83/
END:VEVENT
END:VCALENDAR